BEGIN:VCALENDAR
VERSION:2.0
PRODID:-//Q Software - ECPv4.9.14//NONSGML v1.0//EN
CALSCALE:GREGORIAN
METHOD:PUBLISH
X-WR-CALNAME:Q Software
X-ORIGINAL-URL:https://www.qsoftware.com
X-WR-CALDESC:Events for Q Software
BEGIN:VTIMEZONE
TZID:UTC
BEGIN:STANDARD
TZOFFSETFROM:+0000
TZOFFSETTO:+0000
TZNAME:UTC
DTSTART:20190101T000000
END:STANDARD
END:VTIMEZONE
BEGIN:VEVENT
DTSTART;VALUE=DATE:20190618
DTEND;VALUE=DATE:20190619
DTSTAMP:20260421T020012
CREATED:20190604T110010Z
LAST-MODIFIED:20190604T110010Z
UID:17887-1560816000-1560902399@www.qsoftware.com
SUMMARY:Syntax Webinar: Audit Your ERP Usage & Stay Compliant with Oracle Licensing
DESCRIPTION:\n\n\n\n\n\n\nHosted by our partner\, Syntax\, co-presented by Q Software!\n\nIt can be challenging to keep tabs on your ERP module usage. After roll outs and upgrades\, you can end up with a complex picture of usage. Sometimes usage discrepancies can lead to your organization paying too much (or too little!) for your license. The last thing you need is a call from the Oracle licensing team. \nNow there’s a quick and easy way to access accurate ERP usage information for your Oracle E-Business Suite or JD Edwards EnterpriseOne system. \nQCloud License Audit is a simple solution which enables you to: \n\nRun regular checks to reveal any areas of non-compliance\nUnderstand who is using which modules\, to identify redundant licenses\nProvide evidence for the Oracle License team.\n\nAll this within hours\, with no in-house technical effort required! \nRegister HERE now!\nDate: Tuesday\, June 18 \nTime: 2pm ET; 1pm CT; 12 noon MT; 11am PT \n\n\n\n\n\n\n\n\n
URL:https://www.qsoftware.com/event/audit-erp-usage-and-stay-compliant-with-oracle-licensing/
CATEGORIES:JD Edwards,Oracle® E-Business Suite
END:VEVENT
END:VCALENDAR