BEGIN:VCALENDAR
VERSION:2.0
PRODID:-//Q Software - ECPv4.9.14//NONSGML v1.0//EN
CALSCALE:GREGORIAN
METHOD:PUBLISH
X-WR-CALNAME:Q Software
X-ORIGINAL-URL:https://www.qsoftware.com
X-WR-CALDESC:Events for Q Software
BEGIN:VTIMEZONE
TZID:UTC
BEGIN:STANDARD
TZOFFSETFROM:+0000
TZOFFSETTO:+0000
TZNAME:UTC
DTSTART:20190101T000000
END:STANDARD
END:VTIMEZONE
BEGIN:VEVENT
DTSTART;TZID=UTC:20190207T130000
DTEND;TZID=UTC:20190207T133000
DTSTAMP:20260422T184918
CREATED:20190204T120520Z
LAST-MODIFIED:20190204T120520Z
UID:16684-1549544400-1549546200@www.qsoftware.com
SUMMARY:Quistor Webinar: Audit Your JD Edwards Security in Under 4 Hours
DESCRIPTION:Stop spending your valuable time on a complex manual audit of your JD Edwards Security system.\nThere are various reasons why you would want to audit your JD Edwards security systems: \n\nAuditor pressure\nCompliance reporting\nYou realize that about 50% of fraud is committed by insiders.\n\nGet fast and clear results in a few clicks with Quistor QCloud Security Audit as a Service (powered by QSoftware) \n\nFast delivery with no technical effort required\nMeaningful SOD insights\nAutomated reporting\nCost effective audit\nCloud based service\n\nJoin our partner Quistor at this short webinar to see how it works. \nRegister HERE \nDate: Thursday\, 7th February \nTime: 1pm GMT; 2pm CET \n
URL:https://www.qsoftware.com/event/audit-your-jd-edwards-security-in-under-4-hours-quistor-19-02/
CATEGORIES:JD Edwards
END:VEVENT
END:VCALENDAR