BEGIN:VCALENDAR
VERSION:2.0
PRODID:-//Q Software - ECPv4.9.14//NONSGML v1.0//EN
CALSCALE:GREGORIAN
METHOD:PUBLISH
X-WR-CALNAME:Q Software
X-ORIGINAL-URL:https://www.qsoftware.com
X-WR-CALDESC:Events for Q Software
BEGIN:VTIMEZONE
TZID:UTC
BEGIN:STANDARD
TZOFFSETFROM:+0000
TZOFFSETTO:+0000
TZNAME:UTC
DTSTART:20180101T000000
END:STANDARD
END:VTIMEZONE
BEGIN:VEVENT
DTSTART;VALUE=DATE:20180328
DTEND;VALUE=DATE:20180329
DTSTAMP:20260419T233035
CREATED:20180208T195404Z
LAST-MODIFIED:20180208T195404Z
UID:14726-1522195200-1522281599@www.qsoftware.com
SUMMARY:An Auditor’s View: Issues with ERP Security
DESCRIPTION: \n#cmsmasters_row_69e5659bd18d5 .cmsmasters_row_outer_parent { \n	padding-top: 0px; \n} \n\n#cmsmasters_row_69e5659bd18d5 .cmsmasters_row_outer_parent { \n	padding-bottom: 50px; \n} \n\n\n#cmsmasters_button_69e5659bd1ec3 { \n	float:left; \n} \n\n#cmsmasters_button_69e5659bd1ec3 .cmsmasters_button:before { \n	margin-right:.5em; \n	margin-left:0; \n	vertical-align:baseline; \n} \n\n#cmsmasters_button_69e5659bd1ec3 .cmsmasters_button { \n	font-weight:normal; \n	font-style:normal; \n	border-style:solid; \n} \n#cmsmasters_button_69e5659bd1ec3 .cmsmasters_button:hover { \n} \n\n\n\n\n\n\n\nDo you understand the key security risks in your ERP system? \nJoin us for an inside look at an auditor’s view. \nNo-one understands Risk Analysis like an auditor. \nIn his time at a ‘Big 4’ firm\, our guest presenter\, Eric Henderson\, helped many companies to understand the key issues. \nAt this webinar he will describe common problems that he’s found at ERP client sites and give advice as to what you need to do to mitigate the risks. \nJoin us at this webinar for a unique opportunity to gain an auditor’s insight into: \n\nHow you could be at risk\nWhat you should watch out for\nHow you can start to make your system safe.\n\nWebinar: An Auditor’s View: Issues with ERP Security \n\n\nRegister Here\n\n\n\n\n\n\n\n
URL:https://www.qsoftware.com/event/auditors-view-issues-erp-security-3/
LOCATION:LIVE WEBINAR
CATEGORIES:JD Edwards
END:VEVENT
END:VCALENDAR