BEGIN:VCALENDAR
VERSION:2.0
PRODID:-//Q Software - ECPv4.9.14//NONSGML v1.0//EN
CALSCALE:GREGORIAN
METHOD:PUBLISH
X-WR-CALNAME:Q Software
X-ORIGINAL-URL:https://www.qsoftware.com
X-WR-CALDESC:Events for Q Software
BEGIN:VTIMEZONE
TZID:UTC
BEGIN:STANDARD
TZOFFSETFROM:+0000
TZOFFSETTO:+0000
TZNAME:UTC
DTSTART:20180101T000000
END:STANDARD
END:VTIMEZONE
BEGIN:VEVENT
DTSTART;VALUE=DATE:20180422
DTEND;VALUE=DATE:20180428
DTSTAMP:20260419T130136
CREATED:20180118T213035Z
LAST-MODIFIED:20180420T142023Z
UID:14670-1524355200-1524873599@www.qsoftware.com
SUMMARY:COLLABORATE 2018
DESCRIPTION: \n#cmsmasters_row_69e4d2300d205 .cmsmasters_row_outer_parent { \n	padding-top: 0px; \n} \n\n#cmsmasters_row_69e4d2300d205 .cmsmasters_row_outer_parent { \n	padding-bottom: 50px; \n} \n\n\n\n\n\n\n\n\n \nStop by and visit with us at booth 1225 during COLLABORATE!\nIf you’re heading to Las Vegas for COLLABORATE18\, visit us to find out about tools and services that help Oracle E-Business Suite and JD Edwards users keep their systems in good shape. \nQCloud License Audit: Stay compliant with your Oracle ERP and Database Licensing. \nQCloud Security Audit: Uncover Segregation of Duties conflicts and other vulnerabilities overnight — with no technical effort needed. \nGRC investment tailored to your business needs: Our flexible Risk Management process\, with versatile on-premise and Cloud-based tools and services\, allows you to take a pragmatic\, affordable approach to managing the risks that matter most to you. \nMark your agenda for our education sessions throughout the week!\n10303: How to Plan Security Management When Moving to the Cloud (Oracle E-Business Suite)\nSunday 4/22\, 1:45-2:45PM\, Breakers L\nPresented by Mike Hoskin & Mike Ward \n103770: Preparing for Your External Audit – the 5 Ps! (JD Edwards & Oracle E-Business Suite)\nTuesday 4/24\, 9:45-10:45AM\, Lagoon H\nPresented by Eric Henderson & Carrie Curry \n112450: Security Panel Discussion (JD Edwards)\nTuesday 4/24\, 1:15-2:15PM\, Lagoon A\nPresented by Q Software and customer representatives from CNR\, Carr Properties\, InvenTrust\, Intergen \n10302: How Does Audit\, Compliance\, and Security Management Solutions Moving to the Cloud Affect You? (Oracle E-Business Suite)\nWednesday 4/25\, 9:45-10:45AM\, Breakers F\nPresented by Mike Ward & Mike Hoskin \n10609: [OAUG VAS] Audit as a Service – Be Prepared for Your External Audit and Your Oracle License Audit (JD Edwards & Oracle E-Business Suite)\nWednesday 4/25\, 11:00-12:00PM\, Shell Seeker A\nPresented by Mike Ward \n103740: How Does Audit\, Compliance\, and Security Management Solutions Moving to the Cloud Affect You? (JD Edwards)\nWednesday 4/25\, 2:30-3:30PM\, South Seas J\nPresented by Carrie Curry & Mike Hoskin \n103470: Learn How a Mid-market Manufacturer Handled JDE Security the ‘Easy’ Way (JD Edwards)\nThursday 4/26\, 8:30-9:30AM\, Lagoon D\nPresented by Mike Ward \nPlease note that if you’re a current customer\, you’re also invited to our Customer Training Session on Sunday\, 4/22 from 3:00-5:00pm in Mariners B!\n\n\n\n\n\n\n\n\n
URL:https://www.qsoftware.com/event/collaborate-2018/
CATEGORIES:JD Edwards,Oracle® E-Business Suite
END:VEVENT
END:VCALENDAR