BEGIN:VCALENDAR
VERSION:2.0
PRODID:-//Q Software - ECPv4.9.14//NONSGML v1.0//EN
CALSCALE:GREGORIAN
METHOD:PUBLISH
X-WR-CALNAME:Q Software
X-ORIGINAL-URL:https://www.qsoftware.com
X-WR-CALDESC:Events for Q Software
BEGIN:VTIMEZONE
TZID:UTC
BEGIN:STANDARD
TZOFFSETFROM:+0000
TZOFFSETTO:+0000
TZNAME:UTC
DTSTART:20180101T000000
END:STANDARD
END:VTIMEZONE
BEGIN:VEVENT
DTSTART;VALUE=DATE:20180315
DTEND;VALUE=DATE:20180316
DTSTAMP:20260420T091610
CREATED:20180108T181543Z
LAST-MODIFIED:20180309T173430Z
UID:14626-1521072000-1521158399@www.qsoftware.com
SUMMARY:Continuous Monitoring -- Detecting Fraud on Oracle E-Business Suite
DESCRIPTION: \n#cmsmasters_row_69e5eeda5d479 .cmsmasters_row_outer_parent { \n	padding-top: 0px; \n} \n\n#cmsmasters_row_69e5eeda5d479 .cmsmasters_row_outer_parent { \n	padding-bottom: 50px; \n} \n\n\n#cmsmasters_button_69e5eeda5da12 { \n	float:left; \n} \n\n#cmsmasters_button_69e5eeda5da12 .cmsmasters_button:before { \n	margin-right:.5em; \n	margin-left:0; \n	vertical-align:baseline; \n} \n\n#cmsmasters_button_69e5eeda5da12 .cmsmasters_button { \n	font-weight:normal; \n	font-style:normal; \n	border-style:solid; \n} \n#cmsmasters_button_69e5eeda5da12 .cmsmasters_button:hover { \n} \n\n\n\n\n\n\n\nDo you know if someone is committing fraudulent actions on your ERP system?\nWouldn’t you like to be notified if suspicious changes were to occur?\nMost ERP system users set up controls such as Segregation of Duties (SoD)\, and impose policies like “least privilege” access. These are the gatekeepers. But they can be difficult to enforce when the SoD controls aren’t integrated into EBS\, and keeping a spreadsheet in synch with the system is problematic. Can you be sure that you’ve got everything set up properly to prevent improper access? \nThe CaoSys security tools are integrated within EBS\, making SoD much easier to manage. They also provide powerful auditing capabilities to enable you to monitor for changes to critical master data. With CS*Audit you can track changes and set alerts to notify you if suspicious activity occurs. \nAt this webinar we will demonstrate:\n• How to set up Alerts\n• Interrogating the Audit Trail\n• Use of Audit Rules – gaining from other companies’ experiences\n• Documentation and Approvals Workflow \nWebinar: Continuous Monitoring — Detecting Fraud on Oracle E-Business Suite\n12:00pm ET\, 11:00am CT\, 10:00am MT\, 9:00am PT\nThursday\, March 15 \n\n\nRegister here\n\n\n\n\n\n\n\n
URL:https://www.qsoftware.com/event/continuous-monitoring-detecting-fraud-oracle-e-business-suite/
LOCATION:LIVE WEBINAR
CATEGORIES:Oracle® E-Business Suite
END:VEVENT
END:VCALENDAR