BEGIN:VCALENDAR
VERSION:2.0
PRODID:-//Q Software - ECPv4.9.14//NONSGML v1.0//EN
CALSCALE:GREGORIAN
METHOD:PUBLISH
X-WR-CALNAME:Q Software
X-ORIGINAL-URL:https://www.qsoftware.com
X-WR-CALDESC:Events for Q Software
BEGIN:VTIMEZONE
TZID:America/New_York
BEGIN:DAYLIGHT
TZOFFSETFROM:-0500
TZOFFSETTO:-0400
TZNAME:EDT
DTSTART:20170312T070000
END:DAYLIGHT
BEGIN:STANDARD
TZOFFSETFROM:-0400
TZOFFSETTO:-0500
TZNAME:EST
DTSTART:20171105T060000
END:STANDARD
END:VTIMEZONE
BEGIN:VEVENT
DTSTART;TZID=America/New_York:20170419T120000
DTEND;TZID=America/New_York:20170419T124500
DTSTAMP:20260426T033710
CREATED:20170201T193751Z
LAST-MODIFIED:20170331T194153Z
UID:11747-1492603200-1492605900@www.qsoftware.com
SUMMARY:The Easy Way to Audit JD Edwards EnterpriseOne Security
DESCRIPTION: \n#cmsmasters_row_69ed886637d01 .cmsmasters_row_outer_parent { \n	padding-top: 0px; \n} \n\n#cmsmasters_row_69ed886637d01 .cmsmasters_row_outer_parent { \n	padding-bottom: 50px; \n} \n\n \n#cmsmasters_row_69ed8866382d1 .cmsmasters_row_outer_parent { \n	padding-top: 0px; \n} \n\n#cmsmasters_row_69ed8866382d1 .cmsmasters_row_outer_parent { \n	padding-bottom: 50px; \n} \n\n\n#cmsmasters_button_69ed8866384b3 { \n	float:left; \n} \n\n#cmsmasters_button_69ed8866384b3 .cmsmasters_button:before { \n	margin-right:.5em; \n	margin-left:0; \n	vertical-align:baseline; \n} \n\n#cmsmasters_button_69ed8866384b3 .cmsmasters_button { \n	font-weight:normal; \n	font-style:normal; \n	border-style:solid; \n} \n#cmsmasters_button_69ed8866384b3 .cmsmasters_button:hover { \n} \n\n\n\n\n\n\n\nThe Easy Way to Audit Your JD Edwards Enterprise One Security\nHow secure is your JD Edwards EnterpriseOne System? What do you need to do to improve it?\nWith fraud on the rise and increasing pressure from auditors\, you need to make sure that your ERP system is secure. \nBut up to now\, finding the answers to questions like these has been a tortuous process\, often dependent on complex spreadsheets\, SQL reporting and technical resources. \nSecurity audit results delivered within 8 hours! \nWith QCloud Automated Audit you can conduct an accurate\, comprehensive audit of your security and Segregation of Duties controls whenever you need it\, without any demand on your technical team. \nJust log in to QCloud to trigger an audit of your live system and the results will be available the next day. \n\nThe report identifies weaknesses and makes recommendations\nDrill down to investigate issues with interactive enquiries\nCompare results and highlight trends with historical reports\nProvides evidence for your auditor\nReduce external audit costs\nPrevent internal fraud\n\nThe Easy Way to Audit Your JD Edwards EntperiseOne Security\nWednesday\, April 19\nDuration: 30 minutes\n12:00 ET; 11:00 CT; 10:00 MT: 9:00 PT \n\n\n\n\n\n\n\n\n\n\n\n\n\n\nRegister Here\n\n\n\n\n\n\n\n
URL:https://www.qsoftware.com/event/easy-way-audit-jd-edwards-enterpriseone-security-2/
LOCATION:LIVE WEBINAR
CATEGORIES:JD Edwards
END:VEVENT
END:VCALENDAR