BEGIN:VCALENDAR
VERSION:2.0
PRODID:-//Q Software - ECPv4.9.14//NONSGML v1.0//EN
CALSCALE:GREGORIAN
METHOD:PUBLISH
X-WR-CALNAME:Q Software
X-ORIGINAL-URL:https://www.qsoftware.com
X-WR-CALDESC:Events for Q Software
BEGIN:VTIMEZONE
TZID:UTC
BEGIN:STANDARD
TZOFFSETFROM:+0000
TZOFFSETTO:+0000
TZNAME:UTC
DTSTART:20200101T000000
END:STANDARD
END:VTIMEZONE
BEGIN:VEVENT
DTSTART;VALUE=DATE:20201202
DTEND;VALUE=DATE:20201203
DTSTAMP:20260423T082530
CREATED:20201022T174932Z
LAST-MODIFIED:20201116T121915Z
UID:21957-1606867200-1606953599@www.qsoftware.com
SUMMARY:Webinar: Get a handle on your JD Edwards License position
DESCRIPTION:\n#cmsmasters_button_69e9d77aa458f { \n	float:left; \n} \n\n#cmsmasters_button_69e9d77aa458f .cmsmasters_button:before { \n	margin-right:.5em; \n	margin-left:0; \n	vertical-align:baseline; \n} \n\n#cmsmasters_button_69e9d77aa458f .cmsmasters_button { \n	font-size:16px; \n	font-weight:normal; \n	font-style:normal; \n	border-style:solid; \n	background-color:#e42313;\n	color:#ffffff;\n	border-color:#e42313;\n} \n#cmsmasters_button_69e9d77aa458f .cmsmasters_button:hover { \n	background-color:#e42313;\n	color:#ffffff;\n	border-color:#e42313;\n} \n\n\n\n\n\n\n\nNeed to get a handle on your JD Edwards License position?\n \nIt can be challenging to keep tabs on your ERP module usage. After roll outs and upgrades\, you can end up with a complex picture of usage\, with no easy way to determine the actual number of active users. \nYou need accurate usage information to support your license negotiations with Oracle. A lack of evidence could lead to your organization paying too much. \nQCloud enables you to carry out a License Audit of your JD Edwards EnterpriseOne system with about 30 minutes of effort. \nIt shows actual users\, as well as users with unused access rights – which could leave you liable to pay for additional licenses\, depending on your license agreement. \nJoin us at this short webinar to see how it works. \nIf you can’t make it\, register anyway and we’ll send you the recording. \nDate: Wednesday\, December 2\nTime: 1pm ET \n\nReserve your place here\n\n\n\n\n\n\n\n\n\n
URL:https://www.qsoftware.com/event/get-a-handle-on-your-oracle-erp-license-position-12-20/
CATEGORIES:JD Edwards
END:VEVENT
END:VCALENDAR