BEGIN:VCALENDAR
VERSION:2.0
PRODID:-//Q Software - ECPv4.9.14//NONSGML v1.0//EN
CALSCALE:GREGORIAN
METHOD:PUBLISH
X-WR-CALNAME:Q Software
X-ORIGINAL-URL:https://www.qsoftware.com
X-WR-CALDESC:Events for Q Software
BEGIN:VTIMEZONE
TZID:UTC
BEGIN:STANDARD
TZOFFSETFROM:+0000
TZOFFSETTO:+0000
TZNAME:UTC
DTSTART:20190101T000000
END:STANDARD
END:VTIMEZONE
BEGIN:VEVENT
DTSTART;VALUE=DATE:20190925
DTEND;VALUE=DATE:20190926
DTSTAMP:20260420T030132
CREATED:20190920T094010Z
LAST-MODIFIED:20190920T095006Z
UID:18597-1569369600-1569455999@www.qsoftware.com
SUMMARY:Webinar: How to optimize your Oracle ERP fees and avoid unexpected bills\, hosted by our partner\, Quistor
DESCRIPTION:\n#cmsmasters_button_69e5970c2f7c5 { \n	float:left; \n} \n\n#cmsmasters_button_69e5970c2f7c5 .cmsmasters_button:before { \n	margin-right:.5em; \n	margin-left:0; \n	vertical-align:baseline; \n} \n\n#cmsmasters_button_69e5970c2f7c5 .cmsmasters_button { \n	font-size:16px; \n	font-weight:normal; \n	font-style:normal; \n	border-style:solid; \n	background-color:#e42313;\n	color:#ffffff;\n} \n#cmsmasters_button_69e5970c2f7c5 .cmsmasters_button:hover { \n} \n\n\n\n\n\n\n\nAre you confident that you’re compliant with your Oracle JD Edwards Licence Agreement?\n \nWith no standard utilities to help\, it can be very hard to keep tabs on your JD Edwards module usage\, which could lead to an unexpected bill. \nNow there’s a quick and easy way to solve that. \nQCloud Licence Audit gives you accurate usage statistics for your JD Edwards EnterpriseOne system\, so you can identify areas of non-compliance or redundant licences. \nJoin us at this webinar\, hosted by our partner\, Quistor\, to find out more. \nDate: Thursday\, 25th September\nTime: 1pm BST; 2pm CEST \n\nRESERVE YOUR PLACE HERE\n\n\n\n\n\n\n\n\n
URL:https://www.qsoftware.com/event/how-to-optimize-oracle-erp-fees-and-avoid-unexpected-bills-quistor/
CATEGORIES:JD Edwards
END:VEVENT
END:VCALENDAR