BEGIN:VCALENDAR
VERSION:2.0
PRODID:-//Q Software - ECPv4.9.14//NONSGML v1.0//EN
CALSCALE:GREGORIAN
METHOD:PUBLISH
X-WR-CALNAME:Q Software
X-ORIGINAL-URL:https://www.qsoftware.com
X-WR-CALDESC:Events for Q Software
BEGIN:VTIMEZONE
TZID:UTC
BEGIN:STANDARD
TZOFFSETFROM:+0000
TZOFFSETTO:+0000
TZNAME:UTC
DTSTART:20180101T000000
END:STANDARD
END:VTIMEZONE
BEGIN:VEVENT
DTSTART;VALUE=DATE:20180322
DTEND;VALUE=DATE:20180323
DTSTAMP:20260420T025957
CREATED:20180206T201458Z
LAST-MODIFIED:20180206T201458Z
UID:14715-1521676800-1521763199@www.qsoftware.com
SUMMARY:JD Edwards EnterpriseOne Row Security Bootcamp
DESCRIPTION: \n#cmsmasters_row_69e596ad7a015 .cmsmasters_row_outer_parent { \n	padding-top: 0px; \n} \n\n#cmsmasters_row_69e596ad7a015 .cmsmasters_row_outer_parent { \n	padding-bottom: 50px; \n} \n\n\n#cmsmasters_button_69e596ad7a56a { \n	float:left; \n} \n\n#cmsmasters_button_69e596ad7a56a .cmsmasters_button:before { \n	margin-right:.5em; \n	margin-left:0; \n	vertical-align:baseline; \n} \n\n#cmsmasters_button_69e596ad7a56a .cmsmasters_button { \n	font-weight:normal; \n	font-style:normal; \n	border-style:solid; \n} \n#cmsmasters_button_69e596ad7a56a .cmsmasters_button:hover { \n} \n\n\n\n\n\n\n\nThis complimentary educational webinar aims to give you the knowledge to deploy Row Security to address your organization’s specific needs\, without fear of impacting system performance or losing control of your data. \nIt covers everything from the basics through to detailed technical considerations. \nWebinar: JD Edwards EnterpriseOne Row Security Bootcamp \n\n\nRegister Here\n\n\n\n\n\n\n\n
URL:https://www.qsoftware.com/event/jd-edwards-enterpriseone-row-security-bootcamp-3/
LOCATION:LIVE WEBINAR
CATEGORIES:JD Edwards
END:VEVENT
END:VCALENDAR