BEGIN:VCALENDAR
VERSION:2.0
PRODID:-//Q Software - ECPv4.9.14//NONSGML v1.0//EN
CALSCALE:GREGORIAN
METHOD:PUBLISH
X-WR-CALNAME:Q Software
X-ORIGINAL-URL:https://www.qsoftware.com
X-WR-CALDESC:Events for Q Software
BEGIN:VTIMEZONE
TZID:UTC
BEGIN:STANDARD
TZOFFSETFROM:+0000
TZOFFSETTO:+0000
TZNAME:UTC
DTSTART:20180101T000000
END:STANDARD
END:VTIMEZONE
BEGIN:VEVENT
DTSTART;VALUE=DATE:20180321
DTEND;VALUE=DATE:20180322
DTSTAMP:20260420T044509
CREATED:20180309T155748Z
LAST-MODIFIED:20180309T160359Z
UID:14892-1521590400-1521676799@www.qsoftware.com
SUMMARY:Oracle License Audit -- Making Sure Your JD Edwards EnterpriseOne System is Compliant
DESCRIPTION: \n#cmsmasters_row_69e5af55312d7 .cmsmasters_row_outer_parent { \n	padding-top: 0px; \n} \n\n#cmsmasters_row_69e5af55312d7 .cmsmasters_row_outer_parent { \n	padding-bottom: 50px; \n} \n\n\n#cmsmasters_button_69e5af55317ce { \n	float:left; \n} \n\n#cmsmasters_button_69e5af55317ce .cmsmasters_button:before { \n	margin-right:.5em; \n	margin-left:0; \n	vertical-align:baseline; \n} \n\n#cmsmasters_button_69e5af55317ce .cmsmasters_button { \n	font-weight:normal; \n	font-style:normal; \n	border-style:solid; \n} \n#cmsmasters_button_69e5af55317ce .cmsmasters_button:hover { \n} \n\n\n\n\n\n\n\nClick here to change this text \n\n\nRegister Here\n\n\n\n\n\n\n\n
URL:https://www.qsoftware.com/event/oracle-license-audit-making-sure-jd-edwards-enterpriseone-system-compliant/
CATEGORIES:JD Edwards
END:VEVENT
END:VCALENDAR