BEGIN:VCALENDAR
VERSION:2.0
PRODID:-//Q Software - ECPv4.9.14//NONSGML v1.0//EN
CALSCALE:GREGORIAN
METHOD:PUBLISH
X-WR-CALNAME:Q Software
X-ORIGINAL-URL:https://www.qsoftware.com
X-WR-CALDESC:Events for Q Software
BEGIN:VTIMEZONE
TZID:UTC
BEGIN:STANDARD
TZOFFSETFROM:+0000
TZOFFSETTO:+0000
TZNAME:UTC
DTSTART:20180101T000000
END:STANDARD
END:VTIMEZONE
BEGIN:VEVENT
DTSTART;VALUE=DATE:20180411
DTEND;VALUE=DATE:20180412
DTSTAMP:20260419T164128
CREATED:20180108T171035Z
LAST-MODIFIED:20180410T151551Z
UID:14608-1523404800-1523491199@www.qsoftware.com
SUMMARY:Take the Pain Out of Periodic Access Reviews in JD Edwards EnterpriseOne
DESCRIPTION: \n#cmsmasters_row_69e505b8820dd .cmsmasters_row_outer_parent { \n	padding-top: 0px; \n} \n\n#cmsmasters_row_69e505b8820dd .cmsmasters_row_outer_parent { \n	padding-bottom: 50px; \n} \n\n\n#cmsmasters_button_69e505b882631 { \n	float:left; \n} \n\n#cmsmasters_button_69e505b882631 .cmsmasters_button:before { \n	margin-right:.5em; \n	margin-left:0; \n	vertical-align:baseline; \n} \n\n#cmsmasters_button_69e505b882631 .cmsmasters_button { \n	font-weight:normal; \n	font-style:normal; \n	border-style:solid; \n} \n#cmsmasters_button_69e505b882631 .cmsmasters_button:hover { \n} \n\n\n\n\n\n\n\nConducting Periodic Access Reviews can be an extremely arduous and painful process. It can swallow up a lot of technical effort to produce complex (and often inaccurate) access reports\, and then Business Managers have to wade through reams of unintelligible data while trying to work out what it means and whether they ought to sign off on it. \nOur Periodic Review model automates and simplifies the process; it works on your live security tables\, so however you manage your security\, Periodic Review will report on the net security changes – and you can be confident that it yields accurate results. \nWebinar: Periodic Access Reviews — Save Money & Get It Right\n12:00ET\, 11:00CT\, 10:00MT\, 9:00PT\nWednesday\, April 11 \n\n\nRegister here\n\n\n\n\n\n\n\n
URL:https://www.qsoftware.com/event/periodic-access-reviews-save-money-get-right-2/
LOCATION:LIVE WEBINAR
CATEGORIES:JD Edwards
END:VEVENT
END:VCALENDAR