BEGIN:VCALENDAR
VERSION:2.0
PRODID:-//Q Software - ECPv4.9.14//NONSGML v1.0//EN
CALSCALE:GREGORIAN
METHOD:PUBLISH
X-WR-CALNAME:Q Software
X-ORIGINAL-URL:https://www.qsoftware.com
X-WR-CALDESC:Events for Q Software
BEGIN:VTIMEZONE
TZID:UTC
BEGIN:STANDARD
TZOFFSETFROM:+0000
TZOFFSETTO:+0000
TZNAME:UTC
DTSTART:20190101T000000
END:STANDARD
END:VTIMEZONE
BEGIN:VEVENT
DTSTART;VALUE=DATE:20190306
DTEND;VALUE=DATE:20190307
DTSTAMP:20260422T121119
CREATED:20190115T150039Z
LAST-MODIFIED:20190226T121534Z
UID:16655-1551830400-1551916799@www.qsoftware.com
SUMMARY:JDE E1 Users: Simplify Your User Provisioning and Management Processes
DESCRIPTION: \n#cmsmasters_row_69e8bae753ef2 .cmsmasters_row_outer_parent { \n	padding-top: 0px; \n} \n\n#cmsmasters_row_69e8bae753ef2 .cmsmasters_row_outer_parent { \n	padding-bottom: 50px; \n} \n\n\n#cmsmasters_button_69e8bae754484 { \n	float:left; \n} \n\n#cmsmasters_button_69e8bae754484 .cmsmasters_button:before { \n	margin-right:.5em; \n	margin-left:0; \n	vertical-align:baseline; \n} \n\n#cmsmasters_button_69e8bae754484 .cmsmasters_button { \n	font-weight:normal; \n	font-style:normal; \n	border-style:solid; \n} \n#cmsmasters_button_69e8bae754484 .cmsmasters_button:hover { \n} \n\n\n\n\n\n\n\nMany customers tell us that their highly skilled technical staff spend far too much time on tasks such as User Administration and Role Provisioning. \nOur User Admin Manager tool\, part of our QSoftware suite for JD Edwards EnterpriseOne users\, simplifies common processes\, enabling you to delegate them to Help Desk\, Support or Admin staff. \nAs well as reducing the load on your technical team\, it can also enable you to achieve a faster turnaround time for user requests. \nJoin us at the webinar to find out more and see how it works. \nWe will demonstrate tools to assist: \n\nRole request and assignment\nUser creation and inquiry\nSegregation of Duties validations and reporting.\n\nJoin us at this session to find out how much easier it can be. \nWebinar: Simplify Your User Provisioning and Management Processes in JD Edwards EnterpriseOne\n1:00pm ET\, 12:00pm CT\, 11:00am MT\, 10:00am PT\nWednesday\, March 6 \n\n\nBook your place\n\n\n\n\n\n\n\n
URL:https://www.qsoftware.com/event/simplify-user-provisioning-in-jde-e1-19-03/
CATEGORIES:JD Edwards
END:VEVENT
END:VCALENDAR