BEGIN:VCALENDAR
VERSION:2.0
PRODID:-//Q Software - ECPv4.9.14//NONSGML v1.0//EN
CALSCALE:GREGORIAN
METHOD:PUBLISH
X-WR-CALNAME:Q Software
X-ORIGINAL-URL:https://www.qsoftware.com
X-WR-CALDESC:Events for Q Software
BEGIN:VTIMEZONE
TZID:UTC
BEGIN:STANDARD
TZOFFSETFROM:+0000
TZOFFSETTO:+0000
TZNAME:UTC
DTSTART:20190101T000000
END:STANDARD
END:VTIMEZONE
BEGIN:VEVENT
DTSTART;VALUE=DATE:20191017
DTEND;VALUE=DATE:20191018
DTSTAMP:20260419T182635
CREATED:20191004T080942Z
LAST-MODIFIED:20191004T080942Z
UID:18665-1571270400-1571356799@www.qsoftware.com
SUMMARY:Webinar: Make it Simple: Segregation of Duties & Audit Reporting for Oracle ERP Cloud and Oracle E-Business Suite
DESCRIPTION:\n#cmsmasters_button_69e51e5bd6b74 { \n	float:left; \n} \n\n#cmsmasters_button_69e51e5bd6b74 .cmsmasters_button:before { \n	margin-right:.5em; \n	margin-left:0; \n	vertical-align:baseline; \n} \n\n#cmsmasters_button_69e51e5bd6b74 .cmsmasters_button { \n	font-size:16px; \n	font-weight:normal; \n	font-style:normal; \n	border-style:solid; \n	background-color:#e42313;\n	color:#ffffff;\n	border-color:#e42313;\n} \n#cmsmasters_button_69e51e5bd6b74 .cmsmasters_button:hover { \n} \n\n\n\n\n\n\n\nDo you struggle to accurately identify SoD conflicts in your Oracle ERP Cloud or Oracle E-Business Suite system?\nAuditing your ERP security can be a painful and expensive process. \nWith QCloud\, you can get accurate SoD reports within hours\, with no technical effort. \nQCloud can help you if: \n• Achieving and maintaining SOX/FDA compliance is too costly\n• You have unresolved audit issues and your next audit is approaching\n• You have no understanding of the risks\, and no internal auditors to help\n• You have nagging doubts about your security\, but don’t know how find the problems \nAt this session we will show you how easy it can be to find your SoD violations and get the information that you need to fix them. \nWebinar: Make it Simple: Segregation of Duties & Audit Reporting for Oracle ERP Cloud and Oracle E-Business Suite\nDate: Thursday\, October 17\nTime: 1pm ET; 12 noon CT; 11am MT; 10am PT\nDuration: 40 minutes \n\nReserve your place here\n\n\n\n\n\n\n\n\n\n
URL:https://www.qsoftware.com/event/sod-audit-reporting-oracle-erpcloud-oracle-ebs/
CATEGORIES:Oracle® E-Business Suite,Oracle® ERP Cloud
END:VEVENT
END:VCALENDAR