BEGIN:VCALENDAR
VERSION:2.0
PRODID:-//Q Software - ECPv4.9.14//NONSGML v1.0//EN
CALSCALE:GREGORIAN
METHOD:PUBLISH
X-WR-CALNAME:Q Software
X-ORIGINAL-URL:https://www.qsoftware.com
X-WR-CALDESC:Events for Q Software
BEGIN:VTIMEZONE
TZID:UTC
BEGIN:STANDARD
TZOFFSETFROM:+0000
TZOFFSETTO:+0000
TZNAME:UTC
DTSTART:20190101T000000
END:STANDARD
END:VTIMEZONE
BEGIN:VEVENT
DTSTART;VALUE=DATE:20190618
DTEND;VALUE=DATE:20190620
DTSTAMP:20260421T033039
CREATED:20190408T131306Z
LAST-MODIFIED:20190613T090153Z
UID:17281-1560816000-1560988799@www.qsoftware.com
SUMMARY:UKOUG Applications Unlimited 2019
DESCRIPTION: \n#cmsmasters_row_69e6ef5f9ba67 .cmsmasters_row_outer_parent { \n	padding-top: 0px; \n} \n\n#cmsmasters_row_69e6ef5f9ba67 .cmsmasters_row_outer_parent { \n	padding-bottom: 50px; \n} \n\n\n\n\n\n\n\n\nJoin us at UKOUG Applications Unlimited 2019\nStaying with your On-Prem solutions for the foreseeable future? Then this is the event for you. As the traditional Applications conference will not be taking place this year\, this will be THE source of the latest industry news for 2019. \nFind out what other customers and users are doing with the products\, and how they are using other Oracle or non-Oracle products to augment the Oracle systems. Connecting communities using EBS\, JDE\, PeopleSoft\, Hyperion whilst tackling areas of Security\, Apps Tech enhancements and the myriad of reporting and analytics options. \nQ Software at UKOUG Applications Unlimited 2019 \nAttend our session:\nManaging Application Security When Moving to the Cloud\nPresented by Stephen Davis\, Q Software\nWhen: Tuesday 18th June at 2:30 – 3:15pm \nWhat can you expect from the session? \nEvery attendee at the UKOUG is debating a move to the Cloud. You may be considering moving JD Edwards or Oracle E-Business Suite to Oracle Tech Infrastructure or some other service such as AWS. Or perhaps you’re looking at cloud-based edge solutions to integrate to JDE or EBS. Or maybe you’re weighing up the costs vs benefits of moving from Oracle on-premise ERP to Oracle ERP Cloud in some form or fashion? \nAt this session we will discuss all three scenarios\, the pros and cons of the move\, and how to manage application security regardless of which strategy is adopted. \nDon’t overlook the importance of application security.  We’ll discuss findings from recent auditing firm studies\, highlighting the application risks that all organisations face.  The statistics are daunting and ERP users need to be prepared. Hear the metrics\, the options\, and some recommendations. \nFree Licence Audit for Oracle E-Business Suite and JD Edwards EnterpriseOne users\nWe know it can be hard to keep tabs on your ERP licence usage\, which can leave you liable for an unexpected bill if the Oracle Licence Management team decide to audit you. \nYou may be eligible for a free ERP licence audit to help you stay compliant. Speak to Steve at the conference to find out more. \nDo you need help to improve your ERP auditing and fraud prevention processes?\nWe provide On-premise and Cloud-based Audit\, Compliance and Security Tools and Services for Oracle E-Business Suite and JD Edwards. We’ve helped over 300 customers to streamline audit reporting and keep their ERP systems secure and free from fraud. \nVisit our stand to find out how we can help you. \nFind out more about UKOUG Applications Unlimited 2019 and register here\nWe hope to see you there!\n\n\n\n\n\n\n\n\n
URL:https://www.qsoftware.com/event/ukoug-applications-unlimited-2019/
LOCATION:Royal Berkshire Conference Centre\, Madejski Stadium\, Reading\, RG2 0FL\, United Kingdom
CATEGORIES:JD Edwards,Oracle® E-Business Suite,Oracle® ERP Cloud
END:VEVENT
END:VCALENDAR